BEGIN:VCALENDAR
X-WR-TIMEZONE:Europe/Berlin
X-WR-CALNAME:rbb-Kalender
VERSION:2.0
METHOD:PUBLISH
CALSCALE:GREGORIAN
PRODID:rbb-CMS DAY
BEGIN:VEVENT
CLASS:PUBLIC
URL:http://www.rbb-online.de/content/rbb/rbb/taeteropferpolizei/archiv/20131020_1900/1.html
DTEND:20131020T192500
DTSTART:20131020T190000
UID:/content/rbb/rbb/taeteropferpolizei/archiv/20131020_1900/1
DTSTAMP:20140406T162013
DESCRIPTION:Tatort Kulturbrauerei, der frühe Sonntagmorgen: während im Soda Club noch gefeiert wird, fallen vor der Tür plötzlich Schüsse. Der Türsteher Sebastian K., genannt Locke, 39 Jahre alt, wird schwer verletzt. \n\n
SUMMARY:Türsteher-Mord vor dem Berliner Soda Club
END:VEVENT
END:VCALENDAR
