BEGIN:VCALENDAR
X-WR-TIMEZONE:Europe/Berlin
X-WR-CALNAME:rbb-Kalender
VERSION:2.0
METHOD:PUBLISH
CALSCALE:GREGORIAN
PRODID:rbb-CMS DAY
BEGIN:VEVENT
CLASS:PUBLIC
URL:http://www.rbb-online.de/content/rbb/rbb/taeteropferpolizei/archiv/20131020_1900/6.html
DTEND:20131020T192500
DTSTART:20131020T190000
UID:/content/rbb/rbb/taeteropferpolizei/archiv/20131020_1900/6
DTSTAMP:20140406T161937
DESCRIPTION:Berlin-Kreuzberg, Zossener Straße: Die Etage des Onlineversandhändlers "Strandsandale" wirkt von außen unscheinbar, doch Kenner wissen: Hier werden nicht nur Kartons verschickt, hier ist auch ein angesagter Laden für trendiges Schuhwerk. Die Ruhe am Sonntag nutzen die Diebe gleich zweimal aus.\n\n
SUMMARY:Einbrecher kamen zweimal: 270 Paar Schuhe gestohlen
END:VEVENT
END:VCALENDAR
