BEGIN:VCALENDAR
X-WR-TIMEZONE:Europe/Berlin
X-WR-CALNAME:rbb-Kalender
VERSION:2.0
METHOD:PUBLISH
CALSCALE:GREGORIAN
PRODID:rbb-CMS DAY
BEGIN:VEVENT
CLASS:PUBLIC
URL:http://www.rbb-online.de/content/rbb/rbb/taeteropferpolizei/archiv/20131020_1900/7.html
DTEND:20131020T192500
DTSTART:20131020T190000
UID:/content/rbb/rbb/taeteropferpolizei/archiv/20131020_1900/7
DTSTAMP:20140406T161951
DESCRIPTION:Die Berliner Polizei sucht nach einem 25 bis 40 Jahre alten Mann, der am 08. August einen Einkaufsmarkt in Tegel überfallen hat.\n\n
SUMMARY:Der Supermarkt-Räuber von Reinickendorf
END:VEVENT
END:VCALENDAR
