BEGIN:VCALENDAR
X-WR-TIMEZONE:Europe/Berlin
X-WR-CALNAME:rbb-Kalender
VERSION:2.0
METHOD:PUBLISH
CALSCALE:GREGORIAN
PRODID:rbb-CMS DAY
BEGIN:VEVENT
CLASS:PUBLIC
URL:http://www.rbb-online.de/content/rbb/rbb/taeteropferpolizei/archiv/20131027_1900/2.html
DTEND:20131027T192500
DTSTART:20131027T190000
UID:/content/rbb/rbb/taeteropferpolizei/archiv/20131027_1900/2
DTSTAMP:20140406T161915
DESCRIPTION:Kleinanzeigen in der Uckermark, die Bauqualität von polnischen Firmen für wenig Geld versprechen. Die meisten sind seriös, aber es gibt auch schwarze Schafe,\n
SUMMARY:Der große Betrug beginnt mit einer Kleinanzeige
END:VEVENT
END:VCALENDAR
