BEGIN:VCALENDAR
X-WR-TIMEZONE:Europe/Berlin
X-WR-CALNAME:rbb-Kalender
VERSION:2.0
METHOD:PUBLISH
CALSCALE:GREGORIAN
PRODID:rbb-CMS DAY
BEGIN:VEVENT
CLASS:PUBLIC
URL:http://www.rbb-online.de/content/rbb/rbb/taeteropferpolizei/archiv/20131027_1900/4.html
DTEND:20131027T192500
DTSTART:20131027T190000
UID:/content/rbb/rbb/taeteropferpolizei/archiv/20131027_1900/4
DTSTAMP:20140406T161826
DESCRIPTION:Der Tresor wurde bei einer Wohnungsdurchsuchung beschlagnahmt und konnte bislang keiner Straftat zugeordnet werden.\n\n\n
SUMMARY:Wer den Tresor geknackt hat, ist bekannt – nicht bekannt ist, wem er gehört
END:VEVENT
END:VCALENDAR
