BEGIN:VCALENDAR
X-WR-TIMEZONE:Europe/Berlin
X-WR-CALNAME:rbb-Kalender
VERSION:2.0
METHOD:PUBLISH
CALSCALE:GREGORIAN
PRODID:rbb-CMS DAY
BEGIN:VEVENT
CLASS:PUBLIC
URL:http://www.rbb-online.de/content/rbb/rbb/taeteropferpolizei/archiv/20131027_1900/7.html
DTEND:20131027T192500
DTSTART:20131027T190000
UID:/content/rbb/rbb/taeteropferpolizei/archiv/20131027_1900/7
DTSTAMP:20140406T161921
DESCRIPTION:Die Polizei in Berlin sucht nach jungendlichen Räubern. Sie haben Ende des vergangenen Jahres, am 29. Dezember, in einem Bus der Linie M 49 einem 13-jährigen Schüler das Handy geraubt.\n
SUMMARY:Raub im Bus
END:VEVENT
END:VCALENDAR
