BEGIN:VCALENDAR
X-WR-TIMEZONE:Europe/Berlin
X-WR-CALNAME:rbb-Kalender
VERSION:2.0
METHOD:PUBLISH
CALSCALE:GREGORIAN
PRODID:rbb-CMS DAY
BEGIN:VEVENT
CLASS:PUBLIC
URL:http://www.rbb-online.de/content/rbb/rbb/taeteropferpolizei/archiv/20131103_1900/2.html
DTEND:20131103T192500
DTSTART:20131103T190000
UID:/content/rbb/rbb/taeteropferpolizei/archiv/20131103_1900/2
DTSTAMP:20140406T162844
DESCRIPTION:In diesen Wochen sind vor allem im Norden Brandenburgs Betrüger unterwegs, die sich als Baubarbeiter ausgeben – und das nicht ganz zu Unrecht. Dennoch haben ihre Kunden wenig Freude an ihnen.\n\n\n
SUMMARY:Asphalt-Abzocker
END:VEVENT
END:VCALENDAR
