BEGIN:VCALENDAR
X-WR-TIMEZONE:Europe/Berlin
X-WR-CALNAME:rbb-Kalender
VERSION:2.0
METHOD:PUBLISH
CALSCALE:GREGORIAN
PRODID:rbb-CMS DAY
BEGIN:VEVENT
CLASS:PUBLIC
URL:http://www.rbb-online.de/content/rbb/rbb/taeteropferpolizei/archiv/20131103_1900/3.html
DTEND:20131103T192500
DTSTART:20131103T190000
UID:/content/rbb/rbb/taeteropferpolizei/archiv/20131103_1900/3
DTSTAMP:20140406T162823
DESCRIPTION:Am 28. Oktober begann vor dem Langericht Frankfurt (Oder) der Prozeß gegen einen vorbestraften Betrüger, der so manchen Brandenburger Hausbesitzer um viel Geld geprellt hat. Seine Masche: gegen Vorkasse versprach er den Bau von Treppen oder Carports - die er dann nie lieferte.\n\n\n\n\n
SUMMARY:Kein Treppenwitz – aber Betrug
END:VEVENT
END:VCALENDAR
