BEGIN:VCALENDAR
X-WR-TIMEZONE:Europe/Berlin
X-WR-CALNAME:rbb-Kalender
VERSION:2.0
METHOD:PUBLISH
CALSCALE:GREGORIAN
PRODID:rbb-CMS DAY
BEGIN:VEVENT
CLASS:PUBLIC
URL:http://www.rbb-online.de/content/rbb/rbb/taeteropferpolizei/archiv/20131103_1900/7.html
DTEND:20131103T192500
DTSTART:20131103T190000
UID:/content/rbb/rbb/taeteropferpolizei/archiv/20131103_1900/7
DTSTAMP:20140406T162834
DESCRIPTION:Polizeifotos von Mario K. nach seiner Festnahme am 17. September: sie sollen helfen, die Beweiskette gegen den mutmaßlichen gefährlichen Gewalttäter lückenlos zu machen. Der 46-jährige Berliner schweigt zu den schweren Beschuldigungen.\n
SUMMARY:Der Storkow-Entführer – neue Fotos, neue Fragen
END:VEVENT
END:VCALENDAR
