BEGIN:VCALENDAR
X-WR-TIMEZONE:Europe/Berlin
X-WR-CALNAME:rbb-Kalender
VERSION:2.0
METHOD:PUBLISH
CALSCALE:GREGORIAN
PRODID:rbb-CMS DAY
BEGIN:VEVENT
CLASS:PUBLIC
URL:http://www.rbb-online.de/content/rbb/rbb/taeteropferpolizei/archiv/20131103_1900/vater-morgana.html
DTEND:20131103T192500
DTSTART:20131103T190000
UID:/content/rbb/rbb/taeteropferpolizei/archiv/20131103_1900/vater-morgana
DTSTAMP:20140405T181005
DESCRIPTION:Kein schöner Augenblick, als Marcel (28) seiner Freundin in menschlich netter Form klar macht, dass Schluss ist. Yvonne reagiert kühl: „Dass ich im siebenten Monat schwanger bin, das weißt du aber!?“\n
SUMMARY:Vater Morgana
END:VEVENT
END:VCALENDAR
