BEGIN:VCALENDAR
X-WR-TIMEZONE:Europe/Berlin
X-WR-CALNAME:rbb-Kalender
VERSION:2.0
METHOD:PUBLISH
CALSCALE:GREGORIAN
PRODID:rbb-CMS DAY
BEGIN:VEVENT
LOCATION:Der Kriminalreport mit Uwe Madel
CLASS:PUBLIC
URL:http://www.rbb-online.de/content/rbb/rbb/taeteropferpolizei/archiv/20131110_1900.html
DTEND:20131110T192500
DTSTART:20131110T190000
UID:/content/rbb/rbb/taeteropferpolizei/archiv/20131110_1900
DTSTAMP:20140405T180106
DESCRIPTION:+++ Neue Serie von Blitzeinbrüchen in Berlin +++ Falkensee: 19-Jähriger in Falkensee überfallen +++ Wer sind die Berliner Kioskräuber? +++ Brillen-Diebstahl Mahlow +++ Wer ist der Sextäter von Kleinmachnow? +++\n
SUMMARY:Täter - Opfer - Polizei vom 10.11.2013
END:VEVENT
END:VCALENDAR
