BEGIN:VCALENDAR
X-WR-TIMEZONE:Europe/Berlin
X-WR-CALNAME:rbb-Kalender
VERSION:2.0
METHOD:PUBLISH
CALSCALE:GREGORIAN
PRODID:rbb-CMS DAY
BEGIN:VEVENT
CLASS:PUBLIC
URL:http://www.rbb-online.de/content/rbb/rbb/taeteropferpolizei/archiv/20131110_1900/sexueller-uebergriff-kleinmachnow.html
DTEND:20131110T192500
DTSTART:20131110T190000
UID:/content/rbb/rbb/taeteropferpolizei/archiv/20131110_1900/sexueller-uebergriff-kleinmachnow
DTSTAMP:20140406T162726
DESCRIPTION:Es ist früher Sonntagmorgen, der 18. August um 03.00 Uhr: An der Haltestelle Sachtlebenstraße/Zehlendorfer Damm steigt eine 50-jährige Frau aus dem Nachtbus aus Berlin. Sie geht in Richtung Machnower Busch, doch sie ist nicht allein.\n
SUMMARY:Wer ist der Sextäter von Kleinmachnow?
END:VEVENT
END:VCALENDAR
