BEGIN:VCALENDAR
X-WR-TIMEZONE:Europe/Berlin
X-WR-CALNAME:rbb-Kalender
VERSION:2.0
METHOD:PUBLISH
CALSCALE:GREGORIAN
PRODID:rbb-CMS DAY
BEGIN:VEVENT
CLASS:PUBLIC
URL:http://www.rbb-online.de/content/rbb/rbb/taeteropferpolizei/archiv/20131117_1900/kupferdaecher-stahnsdorf.html
DTEND:20131117T192500
DTSTART:20131117T190000
UID:/content/rbb/rbb/taeteropferpolizei/archiv/20131117_1900/kupferdaecher-stahnsdorf
DTSTAMP:20140406T162214
DESCRIPTION:Die Täter kommen nachts, und sie kennen sich offenbar bestens aus auf dem Südwest-Kirchhof in Stahnsdorf: in der Nacht zum 11. Oktober bringen sie zu Ende, was sie in der Nacht zuvor begonnen haben. Sie stehlen das komplette Kupferdach eines Mausoleums.\n\n\n
SUMMARY:Tatort Friedhof
END:VEVENT
END:VCALENDAR
