BEGIN:VCALENDAR
X-WR-TIMEZONE:Europe/Berlin
X-WR-CALNAME:rbb-Kalender
VERSION:2.0
METHOD:PUBLISH
CALSCALE:GREGORIAN
PRODID:rbb-CMS DAY
BEGIN:VEVENT
CLASS:PUBLIC
URL:http://www.rbb-online.de/content/rbb/rbb/taeteropferpolizei/archiv/20131124_1900/smartphoneraeuber-buelowstrasse.html
DTEND:20131124T192500
DTSTART:20131124T190000
UID:/content/rbb/rbb/taeteropferpolizei/archiv/20131124_1900/smartphoneraeuber-buelowstrasse
DTSTAMP:20140406T162117
DESCRIPTION:Die Polizei in Berlin fahndet nach dem Mann, der am 22. September, einem Sonntag, früh gegen 4:00 Uhr in der U-Bahn der Linie 2 am Bahnhof Bülowstraße einer jungen Frau das Smartphone geraubt hat.\n
SUMMARY:Wer erkennt den Handyräuber?
END:VEVENT
END:VCALENDAR
