BEGIN:VCALENDAR
X-WR-TIMEZONE:Europe/Berlin
X-WR-CALNAME:rbb-Kalender
VERSION:2.0
METHOD:PUBLISH
CALSCALE:GREGORIAN
PRODID:rbb-CMS DAY
BEGIN:VEVENT
CLASS:PUBLIC
URL:http://www.rbb-online.de/content/rbb/rbb/taeteropferpolizei/archiv/20131124_1900/spielcasino-linthe.html
DTEND:20131124T192500
DTSTART:20131124T190000
UID:/content/rbb/rbb/taeteropferpolizei/archiv/20131124_1900/spielcasino-linthe
DTSTAMP:20140406T162139
DESCRIPTION:Ein Spielcasino auf einem Autohof an der A9 im Landkreis Potsdam-Mittelmark: Am Abend des 20. August betreten ein Mann und eine Frau die Automatenhalle – wie normale Kunden, die hier ein bisschen Geld gewinnen wollen.\n\n\n
SUMMARY:Spielcasino beraubt – mit stiller Präzision
END:VEVENT
END:VCALENDAR
