BEGIN:VCALENDAR
X-WR-TIMEZONE:Europe/Berlin
X-WR-CALNAME:rbb-Kalender
VERSION:2.0
METHOD:PUBLISH
CALSCALE:GREGORIAN
PRODID:rbb-CMS DAY
BEGIN:VEVENT
LOCATION:Der rbb Kriminalreport mit Uwe Madel
CLASS:PUBLIC
URL:http://www.rbb-online.de/content/rbb/rbb/taeteropferpolizei/archiv/20131201_1900.html
DTEND:20131201T192500
DTSTART:20131201T190000
UID:/content/rbb/rbb/taeteropferpolizei/archiv/20131201_1900
DTSTAMP:20140405T175450
DESCRIPTION:+++ Nach Öl gebohrt - und fündig geworden +++ Trickdiebstahl in Zossen +++ Einbruch ins Möbelgeschäft - Täter noch nicht gefasst +++ Mord an Berliner Münzhändler - mutmaßlicher Täter vor Gericht +++ Smartphone-Diebstahl hat Konjunktur +++ Moderation: Uwe Madel +++\n\n
SUMMARY:Täter - Opfer - Polizei vom 01.12.2013
END:VEVENT
END:VCALENDAR
