BEGIN:VCALENDAR
X-WR-TIMEZONE:Europe/Berlin
X-WR-CALNAME:rbb-Kalender
VERSION:2.0
METHOD:PUBLISH
CALSCALE:GREGORIAN
PRODID:rbb-CMS DAY
BEGIN:VEVENT
CLASS:PUBLIC
URL:http://www.rbb-online.de/content/rbb/rbb/taeteropferpolizei/archiv/20131201_1900/cartoon-voll-gefilmt.html
DTEND:20131201T192500
DTSTART:20131201T190000
UID:/content/rbb/rbb/taeteropferpolizei/archiv/20131201_1900/cartoon-voll-gefilmt
DTSTAMP:20140405T180946
DESCRIPTION:Tim und Robin sind Singles, seit ziemlich drei Jahren. Eines Abends spüren beide, dass es doch mehr geben muss im Leben. „Ich schreib mal eben an Jennifer“, meint Tim. „Wer ist denn das?“ - „Kenn ich von Facebook, sie wohnt hier in der Nähe – wenn das wirklich deren Foto ist…“\n \n\n
SUMMARY:Voll gefilmt!
END:VEVENT
END:VCALENDAR
