BEGIN:VCALENDAR
X-WR-TIMEZONE:Europe/Berlin
X-WR-CALNAME:rbb-Kalender
VERSION:2.0
METHOD:PUBLISH
CALSCALE:GREGORIAN
PRODID:rbb-CMS DAY
BEGIN:VEVENT
CLASS:PUBLIC
URL:http://www.rbb-online.de/content/rbb/rbb/taeteropferpolizei/archiv/20131201_1900/moebelgeschaeft-heinemann.html
DTEND:20131201T192500
DTSTART:20131201T190000
UID:/content/rbb/rbb/taeteropferpolizei/archiv/20131201_1900/moebelgeschaeft-heinemann
DTSTAMP:20140406T161547
DESCRIPTION:Diese Unbekannten werden von der Überwachungskamera einer Bank gefilmt. Es sind die Männer, die für den Einbruch in das Möbelgeschäft Heinemann in der Lietzenburger Straße in Berlin verantwortlich sind - kein spontaner Raubzug, sondern offenbar länger geplant.\n
SUMMARY:Einbruch ins Möbelgeschäft Heinemann – Täter noch nicht gefasst
END:VEVENT
END:VCALENDAR
