BEGIN:VCALENDAR
X-WR-TIMEZONE:Europe/Berlin
X-WR-CALNAME:rbb-Kalender
VERSION:2.0
METHOD:PUBLISH
CALSCALE:GREGORIAN
PRODID:rbb-CMS DAY
BEGIN:VEVENT
CLASS:PUBLIC
URL:http://www.rbb-online.de/content/rbb/rbb/taeteropferpolizei/archiv/20131201_1900/schmucktrick-zossen.html
DTEND:20131201T192500
DTSTART:20131201T190000
UID:/content/rbb/rbb/taeteropferpolizei/archiv/20131201_1900/schmucktrick-zossen
DTSTAMP:20140406T161601
DESCRIPTION:Zossen im Landkreis Teltow-Fläming, am Marktplatz. Es ist Dienstag, der 26. November, gegen 10.30 Uhr. Eine 58-jährige Frau ist auf dem Weg zur Sparkasse. Sie will eine größere Summe abheben und dann sofort zurück nach Hause.\n\n
SUMMARY:Trickdiebstahl in Zossen
END:VEVENT
END:VCALENDAR
