BEGIN:VCALENDAR
X-WR-TIMEZONE:Europe/Berlin
X-WR-CALNAME:rbb-Kalender
VERSION:2.0
METHOD:PUBLISH
CALSCALE:GREGORIAN
PRODID:rbb-CMS DAY
BEGIN:VEVENT
CLASS:PUBLIC
URL:http://www.rbb-online.de/content/rbb/rbb/taeteropferpolizei/archiv/20131208_1900/homejacking.html
DTEND:20131208T192500
DTSTART:20131208T190000
UID:/content/rbb/rbb/taeteropferpolizei/archiv/20131208_1900/homejacking
DTSTAMP:20140406T163007
DESCRIPTION:In Schönow, einem Ortsteil von Bernau (Landkreis Barnim), trifft es am 20. November nachts gegen 03.00 Uhr die Familie D.: Alle schlafen und niemand merkt, dass Unbekannte die Eingangstür aufbrechen und ins Haus eindringen. Alle vier Minuten – so die Statistik – geschieht solch ein Einbruch in Deutschland. \n\n\n
SUMMARY:Homejacking – die wählerischen Einbrecher
END:VEVENT
END:VCALENDAR
