BEGIN:VCALENDAR
X-WR-TIMEZONE:Europe/Berlin
X-WR-CALNAME:rbb-Kalender
VERSION:2.0
METHOD:PUBLISH
CALSCALE:GREGORIAN
PRODID:rbb-CMS DAY
BEGIN:VEVENT
CLASS:PUBLIC
URL:http://www.rbb-online.de/content/rbb/rbb/taeteropferpolizei/archiv/20131208_1900/homophober-uebergriff.html
DTEND:20131208T192500
DTSTART:20131208T190000
UID:/content/rbb/rbb/taeteropferpolizei/archiv/20131208_1900/homophober-uebergriff
DTSTAMP:20140406T162931
DESCRIPTION:Franz-Mehring-Platz 1: Im Verlagsgebäude des "Neuen Deutschland" findet am 4. Oktober eine Tagung statt. Gegen 18 Uhr gibt es eine Pause, einige Gäste gehen raus. Es trifft sie völlig unvorbereitet: Zwei Unbekannte kommen auf die Tagungsteilnehmer zu und beschimpfen einen Mann. Dann verletzen sie eine Frau mit einem Faustschlag ins Gesicht.\n\n\n
SUMMARY:Homophober Übergriff in Friedrichshain?
END:VEVENT
END:VCALENDAR
