BEGIN:VCALENDAR
X-WR-TIMEZONE:Europe/Berlin
X-WR-CALNAME:rbb-Kalender
VERSION:2.0
METHOD:PUBLISH
CALSCALE:GREGORIAN
PRODID:rbb-CMS DAY
BEGIN:VEVENT
CLASS:PUBLIC
URL:http://www.rbb-online.de/content/rbb/rbb/taeteropferpolizei/archiv/20131208_1900/schmuck-trickdiebstahl.html
DTEND:20131208T192500
DTSTART:20131208T190000
UID:/content/rbb/rbb/taeteropferpolizei/archiv/20131208_1900/schmuck-trickdiebstahl
DTSTAMP:20140406T162959
DESCRIPTION:Sie sind in den Straßen Berlins unterwegs und suchen dort ihre Opfer aus, bevorzugt ältere Damen: Bei ihnen kann noch am sichersten echter Schmuck vermutet werden. Außerdem sind sie leichter zu überrumpeln.\n
SUMMARY:Wenn Trickdiebe Schmuck schenken…
END:VEVENT
END:VCALENDAR
