BEGIN:VCALENDAR
X-WR-TIMEZONE:Europe/Berlin
X-WR-CALNAME:rbb-Kalender
VERSION:2.0
METHOD:PUBLISH
CALSCALE:GREGORIAN
PRODID:rbb-CMS DAY
BEGIN:VEVENT
LOCATION:Der rbb Kriminalreport mit Uwe Madel
CLASS:PUBLIC
URL:http://www.rbb-online.de/content/rbb/rbb/taeteropferpolizei/archiv/20131208_19001.html
DTEND:20131215T192500
DTSTART:20131215T190000
UID:/content/rbb/rbb/taeteropferpolizei/archiv/20131208_19001
DTSTAMP:20140405T175905
DESCRIPTION:+++ Raubüberfall mit fast tödlichem Ausgang +++ Mord in Potsdam nach 30 Jahren neu aufgerollt +++ Nach vierwöchiger Raubserie gefasst – der Räuber am Bankautomaten +++ Spektakuläre Fälle des Jahres 2013 +++ Moderation: Uwe Madel +++\n
SUMMARY:Täter - Opfer - Polizei vom 15.12.2013
END:VEVENT
END:VCALENDAR
