BEGIN:VCALENDAR
X-WR-TIMEZONE:Europe/Berlin
X-WR-CALNAME:rbb-Kalender
VERSION:2.0
METHOD:PUBLISH
CALSCALE:GREGORIAN
PRODID:rbb-CMS DAY
BEGIN:VEVENT
CLASS:PUBLIC
URL:http://www.rbb-online.de/content/rbb/rbb/taeteropferpolizei/archiv/20131208_19001/cartoon-schwindelei.html
DTEND:20131215T192500
DTSTART:20131215T190000
UID:/content/rbb/rbb/taeteropferpolizei/archiv/20131208_19001/cartoon-schwindelei
DTSTAMP:20140405T180900
DESCRIPTION:"Nochmal passiert mir das nicht", jammert Silvio bei der Polizei: "Das Mädel hatte eine Autopanne, auf dem Parkplatz vom Supermarkt. Ich beuge mich in den Motorraum, da werde ich von hinten überfallen: Handy weg und mein ganzes Geld ..."\n
SUMMARY:Täter, Opfer, Schwindelei
END:VEVENT
END:VCALENDAR
