BEGIN:VCALENDAR
X-WR-TIMEZONE:Europe/Berlin
X-WR-CALNAME:rbb-Kalender
VERSION:2.0
METHOD:PUBLISH
CALSCALE:GREGORIAN
PRODID:rbb-CMS DAY
BEGIN:VEVENT
CLASS:PUBLIC
URL:http://www.rbb-online.de/content/rbb/rbb/taeteropferpolizei/archiv/20140119_1900/dampfmaschinen_gestohlen.html
DTEND:20140119T192500
DTSTART:20140119T190000
UID:/content/rbb/rbb/taeteropferpolizei/archiv/20140119_1900/dampfmaschinen_gestohlen
DTSTAMP:20140406T162512
DESCRIPTION:Dampfmaschinen aus dem 19. Jahrhundert - im Modell liebevoll nachgebaut bis ins kleinste Detail: tausende Einzelteile maßstabgerecht in Miniaturgröße. Oft hat Dieter Schmidt aus Kleinmachnow seine selbst gebauten Modelle auf Ausstellungen gezeigt. Jetzt ist der größte Teil seiner Sammlung gestohlen worden.\n\n\n\n\n
SUMMARY:Wo sind die Dampfmaschinen?
END:VEVENT
END:VCALENDAR
