BEGIN:VCALENDAR
X-WR-TIMEZONE:Europe/Berlin
X-WR-CALNAME:rbb-Kalender
VERSION:2.0
METHOD:PUBLISH
CALSCALE:GREGORIAN
PRODID:rbb-CMS DAY
BEGIN:VEVENT
CLASS:PUBLIC
URL:http://www.rbb-online.de/content/rbb/rbb/taeteropferpolizei/archiv/20140119_1900/fahndung_btu_cottbus.html
DTEND:20140119T192500
DTSTART:20140119T190000
UID:/content/rbb/rbb/taeteropferpolizei/archiv/20140119_1900/fahndung_btu_cottbus
DTSTAMP:20140406T162502
DESCRIPTION:Die Polizei in Cottbus sucht nach zwei Einbrechern und Dieben. Sie haben am 24. September 2013 aus einem Gästezimmer der Brandenburgischen Technischen Universität eine Jacke mit Portemonnaie, Smartphone und anderen persönlichen Dingen gestohlen.\n
SUMMARY:Wer ist der geblitzte Einbrecher?
END:VEVENT
END:VCALENDAR
