BEGIN:VCALENDAR
X-WR-TIMEZONE:Europe/Berlin
X-WR-CALNAME:rbb-Kalender
VERSION:2.0
METHOD:PUBLISH
CALSCALE:GREGORIAN
PRODID:rbb-CMS DAY
BEGIN:VEVENT
CLASS:PUBLIC
URL:http://www.rbb-online.de/content/rbb/rbb/taeteropferpolizei/archiv/20140119_1900/kioskueberfall_gropiusstadt.html
DTEND:20140119T192500
DTSTART:20140119T190000
UID:/content/rbb/rbb/taeteropferpolizei/archiv/20140119_1900/kioskueberfall_gropiusstadt
DTSTAMP:20140406T162521
DESCRIPTION:Es ist Dienstag der 26. März 2013, um 14.20 Uhr: Der Platz vor dem Kiosk in der Hirtsieferzeile 40 ist menschenleer. Nur vor dem Geschäft steht eine Frau. Die Inhaberin des Zigarettenkioskes macht eine Pause und raucht.\n\n\n
SUMMARY:Kiosk-Überfall in Gropiusstadt – der zweite Räuber wird noch gesucht
END:VEVENT
END:VCALENDAR
