BEGIN:VCALENDAR
X-WR-TIMEZONE:Europe/Berlin
X-WR-CALNAME:rbb-Kalender
VERSION:2.0
METHOD:PUBLISH
CALSCALE:GREGORIAN
PRODID:rbb-CMS DAY
BEGIN:VEVENT
CLASS:PUBLIC
URL:http://www.rbb-online.de/content/rbb/rbb/taeteropferpolizei/archiv/20140119_1900/sepa_phishing.html
DTEND:20140119T192500
DTSTART:20140119T190000
UID:/content/rbb/rbb/taeteropferpolizei/archiv/20140119_1900/sepa_phishing
DTSTAMP:20140406T162533
DESCRIPTION:Christoph F. aus Berlin ist ein gewissenhafter Mensch. Deshalb ist er erst einmal irritiert, als ihm seine Bank schreibt, bald käme die Umstellung auf das europäische Zahlungssystem SEPA: wenn er nicht seine Bankdaten überprüft, könne er sein Online-Banking dann nicht mehr nutzen.\n
SUMMARY:Vorsicht vor Phishing bei der SEPA-Umstellung
END:VEVENT
END:VCALENDAR
