BEGIN:VCALENDAR
X-WR-TIMEZONE:Europe/Berlin
X-WR-CALNAME:rbb-Kalender
VERSION:2.0
METHOD:PUBLISH
CALSCALE:GREGORIAN
PRODID:rbb-CMS DAY
BEGIN:VEVENT
CLASS:PUBLIC
URL:http://www.rbb-online.de/content/rbb/rbb/taeteropferpolizei/archiv/20140126_1900/cartoon_gruener_daumen.html
DTEND:20140126T192500
DTSTART:20140126T190000
UID:/content/rbb/rbb/taeteropferpolizei/archiv/20140126_1900/cartoon_gruener_daumen
DTSTAMP:20140405T181011
DESCRIPTION:Total nervig die Lehre im Baumarkt: Seit Wochen hat Tobias das Gefühl, dass die anderen ihn nicht mögen: in der Teppichbodenabteilung, auf der Gartenfreifläche oder am Sanitärregal, alle lassen ihn abblitzen. Bald ist ihm klar: Er wird gemobbt.\n
SUMMARY:Der grüne Daumen
END:VEVENT
END:VCALENDAR
