BEGIN:VCALENDAR
X-WR-TIMEZONE:Europe/Berlin
X-WR-CALNAME:rbb-Kalender
VERSION:2.0
METHOD:PUBLISH
CALSCALE:GREGORIAN
PRODID:rbb-CMS DAY
BEGIN:VEVENT
CLASS:PUBLIC
URL:http://www.rbb-online.de/content/rbb/rbb/taeteropferpolizei/archiv/20140126_1900/einbruch_aufgeklaert.html
DTEND:20140126T192500
DTSTART:20140126T190000
UID:/content/rbb/rbb/taeteropferpolizei/archiv/20140126_1900/einbruch_aufgeklaert
DTSTAMP:20140406T162643
DESCRIPTION:Am Morgen des 8. Januar kann die Potsdamer Polizei eine Einbrecherin auf frischer Tat verhaften. Sie trägt Diebesgut aus verschiedenen früheren Einbrüchen bei sich. Vermutlich ist sie eine Serieneinbrecherin.\n
SUMMARY:Aufklärung einer Einbruchsserie - wem gehört das Diebesgut?
END:VEVENT
END:VCALENDAR
