BEGIN:VCALENDAR
X-WR-TIMEZONE:Europe/Berlin
X-WR-CALNAME:rbb-Kalender
VERSION:2.0
METHOD:PUBLISH
CALSCALE:GREGORIAN
PRODID:rbb-CMS DAY
BEGIN:VEVENT
LOCATION:Der rbb Kriminalreport mit Uwe Madel
CLASS:PUBLIC
URL:http://www.rbb-online.de/content/rbb/rbb/taeteropferpolizei/archiv/20140202_1900.html
DTEND:20140202T192500
DTSTART:20140202T190000
UID:/content/rbb/rbb/taeteropferpolizei/archiv/20140202_1900
DTSTAMP:20140405T180000
DESCRIPTION:+++ Raubüberfall in Hennigsdorf +++ Brand im Netto-Markt +++ Trickbetrug im Internet +++ Moderation: Uwe Madel +++\n\n\n
SUMMARY:Täter - Opfer - Polizei vom 02.02.2014
END:VEVENT
END:VCALENDAR
