BEGIN:VCALENDAR
X-WR-TIMEZONE:Europe/Berlin
X-WR-CALNAME:rbb-Kalender
VERSION:2.0
METHOD:PUBLISH
CALSCALE:GREGORIAN
PRODID:rbb-CMS DAY
BEGIN:VEVENT
CLASS:PUBLIC
URL:http://www.rbb-online.de/content/rbb/rbb/taeteropferpolizei/archiv/20140202_1900/betrug_autokauf.html
DTEND:20140202T192500
DTSTART:20140202T190000
UID:/content/rbb/rbb/taeteropferpolizei/archiv/20140202_1900/betrug_autokauf
DTSTAMP:20140406T162605
DESCRIPTION:Nicole und Kay C. leben in Falkensee. Sie arbeitet als Floristin, ihr Mann ist Kraftfahrer von Beruf. Für seinen Weg zur Arbeit ist er auf ein Auto angewiesen. Ende letzten Jahres ist ihm sein Wagen gestohlen worden, deshalb sucht er dringend einen neuen.\n\n\n
SUMMARY:Vorkasse mit schwerem Nachteil – Betrug beim Autokauf im Internet
END:VEVENT
END:VCALENDAR
