BEGIN:VCALENDAR
X-WR-TIMEZONE:Europe/Berlin
X-WR-CALNAME:rbb-Kalender
VERSION:2.0
METHOD:PUBLISH
CALSCALE:GREGORIAN
PRODID:rbb-CMS DAY
BEGIN:VEVENT
CLASS:PUBLIC
URL:http://www.rbb-online.de/content/rbb/rbb/taeteropferpolizei/archiv/20140202_1900/cartoon_auto_in_oel.html
DTEND:20140202T192500
DTSTART:20140202T190000
UID:/content/rbb/rbb/taeteropferpolizei/archiv/20140202_1900/cartoon_auto_in_oel
DTSTAMP:20140405T180753
DESCRIPTION:Ist das ein Spaß am letzten Schultag vor den Abiturprüfungen: Schüler haben sich verkleidet, Wasserbomben klatschen aus der obersten Etage ins Treppenhaus, überall Jux und Tollerei! Eben ein Tag, der allen unvergesslich werden soll …\n\n\n
SUMMARY:Auto in Öl
END:VEVENT
END:VCALENDAR
