BEGIN:VCALENDAR
X-WR-TIMEZONE:Europe/Berlin
X-WR-CALNAME:rbb-Kalender
VERSION:2.0
METHOD:PUBLISH
CALSCALE:GREGORIAN
PRODID:rbb-CMS DAY
BEGIN:VEVENT
CLASS:PUBLIC
URL:http://www.rbb-online.de/content/rbb/rbb/taeteropferpolizei/archiv/20140202_1900/raubueberfall_hennigsdorf.html
DTEND:20140202T192500
DTSTART:20140202T190000
UID:/content/rbb/rbb/taeteropferpolizei/archiv/20140202_1900/raubueberfall_hennigsdorf
DTSTAMP:20140406T162545
DESCRIPTION:Es ist der 16. Dezember 2013 in Hennigsdorf: Um die Mittagszeit macht sich der Mitarbeiter einer Tankstelle mit Geschäftseinnahmen auf den Weg zur Bank. Er parkt ein paar hundert Meter von der Filiale entfernt in der Karl-Marx-Straße.\n\n\n
SUMMARY:Raubüberfall in Hennigsdorf
END:VEVENT
END:VCALENDAR
