BEGIN:VCALENDAR
X-WR-TIMEZONE:Europe/Berlin
X-WR-CALNAME:rbb-Kalender
VERSION:2.0
METHOD:PUBLISH
CALSCALE:GREGORIAN
PRODID:rbb-CMS DAY
BEGIN:VEVENT
CLASS:PUBLIC
URL:http://www.rbb-online.de/content/rbb/rbb/taeteropferpolizei/archiv/20140209_1900/cartoon_wasserspiele.html
DTEND:20140209T192500
DTSTART:20140209T190000
UID:/content/rbb/rbb/taeteropferpolizei/archiv/20140209_1900/cartoon_wasserspiele
DTSTAMP:20140404T210145
DESCRIPTION:Das Leben kann so leicht sein - noch leichter, wenn man schon mittags den ersten Doppelten kippt. Janine und ihre Clique sind - wie oft um diese Zeit - unterwegs in der City. Es geht von Imbiss zu Imbiss, überall verschwimmen bekannte Gesichter. Die Stimmung steigt.\n
SUMMARY:Wasserspiele
END:VEVENT
END:VCALENDAR
