BEGIN:VCALENDAR
X-WR-TIMEZONE:Europe/Berlin
X-WR-CALNAME:rbb-Kalender
VERSION:2.0
METHOD:PUBLISH
CALSCALE:GREGORIAN
PRODID:rbb-CMS DAY
BEGIN:VEVENT
CLASS:PUBLIC
URL:http://www.rbb-online.de/content/rbb/rbb/taeteropferpolizei/archiv/20140209_1900/fahndung_apotheke_seelow.html
DTEND:20140209T192500
DTSTART:20140209T190000
UID:/content/rbb/rbb/taeteropferpolizei/archiv/20140209_1900/fahndung_apotheke_seelow
DTSTAMP:20140404T210123
DESCRIPTION:Vor einiger Zeit hat „Täter, Opfer, Polizei“ über eine Serie von Apotheken-Einbrüchen im Sommer vergangenen Jahres im Osten Brandenburgs berichtet. Dabei gingen die Täter immer gleich vor und entwendeten Geld und diverse Betäubungsmittel.\n
SUMMARY:Wer kennt die Apotheken-Einbrecher?
END:VEVENT
END:VCALENDAR
