BEGIN:VCALENDAR
X-WR-TIMEZONE:Europe/Berlin
X-WR-CALNAME:rbb-Kalender
VERSION:2.0
METHOD:PUBLISH
CALSCALE:GREGORIAN
PRODID:rbb-CMS DAY
BEGIN:VEVENT
LOCATION:Der rbb Kriminalreport mit Uwe Madel
CLASS:PUBLIC
URL:http://www.rbb-online.de/content/rbb/rbb/taeteropferpolizei/archiv/20140216_1900.html
DTEND:20140216T192500
DTSTART:20140216T190000
UID:/content/rbb/rbb/taeteropferpolizei/archiv/20140216_1900
DTSTAMP:20140404T210724
DESCRIPTION:+++ Fahrkartenautomaten gesprengt +++ noch immer kein Zeichen von Karsten Lorenz +++ Einbruchsserie in Backshops +++ Frankfurt (Oder): Besitzer von Diebesgut gesucht +++ Moderation: Uwe Madel +++\n\n\n
SUMMARY:Täter - Opfer - Polizei vom 16.02.2014
END:VEVENT
END:VCALENDAR
