BEGIN:VCALENDAR
X-WR-TIMEZONE:Europe/Berlin
X-WR-CALNAME:rbb-Kalender
VERSION:2.0
METHOD:PUBLISH
CALSCALE:GREGORIAN
PRODID:rbb-CMS DAY
BEGIN:VEVENT
CLASS:PUBLIC
URL:http://www.rbb-online.de/content/rbb/rbb/taeteropferpolizei/archiv/20140216_1900/fahndung_einbruch_vogelsdorf.html
DTEND:20140216T192500
DTSTART:20140216T190000
UID:/content/rbb/rbb/taeteropferpolizei/archiv/20140216_1900/fahndung_einbruch_vogelsdorf
DTSTAMP:20140404T205908
DESCRIPTION:Selten hinterlassen Wohnungseinbrecher derart deutliche Fahndungsbilder wie am 11. Februar in Vogelsdorf im Landkreis Märkisch-Oderland. Hier konnte eine Videokamera aufzeichnen, wie ein Tatverdächtiger in den Vormittagsstunden in ein Wohnhaus eindringt.\n\n\n\n\n
SUMMARY:Wer ist der Einbrecher in Vogelsdorf?
END:VEVENT
END:VCALENDAR
