BEGIN:VCALENDAR
X-WR-TIMEZONE:Europe/Berlin
X-WR-CALNAME:rbb-Kalender
VERSION:2.0
METHOD:PUBLISH
CALSCALE:GREGORIAN
PRODID:rbb-CMS DAY
BEGIN:VEVENT
CLASS:PUBLIC
URL:http://www.rbb-online.de/content/rbb/rbb/taeteropferpolizei/archiv/20140216_1900/sprengung_fahrkartenautomat.html
DTEND:20140216T192500
DTSTART:20140216T190000
UID:/content/rbb/rbb/taeteropferpolizei/archiv/20140216_1900/sprengung_fahrkartenautomat
DTSTAMP:20140404T210330
DESCRIPTION:Eine Explosion zerreißt die nächtliche Stille auf dem Bahnhof Borkheide - am 14. November 2013. Danach ist der Fahrkartenautomat vollständig zerstört. Wenige Wochen später - am 24. Januar – geschieht das Gleiche auf dem Bahnhof Nauen.\n
SUMMARY:Explosion auf dem Bahnsteig
END:VEVENT
END:VCALENDAR
