BEGIN:VCALENDAR
X-WR-TIMEZONE:Europe/Berlin
X-WR-CALNAME:rbb-Kalender
VERSION:2.0
METHOD:PUBLISH
CALSCALE:GREGORIAN
PRODID:rbb-CMS DAY
BEGIN:VEVENT
CLASS:PUBLIC
URL:http://www.rbb-online.de/content/rbb/rbb/taeteropferpolizei/archiv/20140223_1900/cartoon_ausgebadet.html
DTEND:20140223T192500
DTSTART:20140223T190000
UID:/content/rbb/rbb/taeteropferpolizei/archiv/20140223_1900/cartoon_ausgebadet
DTSTAMP:20140404T210304
DESCRIPTION:Mandy und Murat chronisch pleite. Tag für Tag erhalten sie jede Menge Post. Meistens Mahnungen. "Langsam reicht mir das", sagt Mandy eines Tages. "Mir schon lange", sagt Murat, "Ich hab mir auch schon was überlegt."\n
SUMMARY:Ausgebadet!
END:VEVENT
END:VCALENDAR
