BEGIN:VCALENDAR
X-WR-TIMEZONE:Europe/Berlin
X-WR-CALNAME:rbb-Kalender
VERSION:2.0
METHOD:PUBLISH
CALSCALE:GREGORIAN
PRODID:rbb-CMS DAY
BEGIN:VEVENT
CLASS:PUBLIC
URL:http://www.rbb-online.de/content/rbb/rbb/taeteropferpolizei/archiv/20140223_1900/nachnahmebetrug.html
DTEND:20140223T192500
DTSTART:20140223T190000
UID:/content/rbb/rbb/taeteropferpolizei/archiv/20140223_1900/nachnahmebetrug
DTSTAMP:20140404T210255
DESCRIPTION:Wenn der Postbote Briefe oder Päckchen nach Hause bringt, denkt man, dass damit gewiss alles seine Ordnung hat. So ein Postbote – der hat doch fast etwas Offizielles.\n
SUMMARY:Wenn die Post vom Betrüger kommt - Vorsicht bei Nachnahme!
END:VEVENT
END:VCALENDAR
