BEGIN:VCALENDAR
X-WR-TIMEZONE:Europe/Berlin
X-WR-CALNAME:rbb-Kalender
VERSION:2.0
METHOD:PUBLISH
CALSCALE:GREGORIAN
PRODID:rbb-CMS DAY
BEGIN:VEVENT
LOCATION:Der rbb Kriminalreport mit Uwe Madel
CLASS:PUBLIC
URL:http://www.rbb-online.de/content/rbb/rbb/taeteropferpolizei/archiv/20140302_1900.html
DTEND:20140302T192500
DTSTART:20140302T190000
UID:/content/rbb/rbb/taeteropferpolizei/archiv/20140302_1900
DTSTAMP:20140404T210132
DESCRIPTION:+++ Bluttat in Berlin-Steglitz – Polizei glaubt an einen Raubmord +++ Fahrerflucht in Berlin-Wedding – Siebenjähriger schwer verletzt +++ Netto-Markt in Schwante - Überfall vor Ladenschluss +++ Kriminelle auf dem Holzweg +++ Moderation: Uwe Madel +++\n\n\n
SUMMARY:Täter - Opfer - Polizei vom 02.03.2014
END:VEVENT
END:VCALENDAR
