BEGIN:VCALENDAR
X-WR-TIMEZONE:Europe/Berlin
X-WR-CALNAME:rbb-Kalender
VERSION:2.0
METHOD:PUBLISH
CALSCALE:GREGORIAN
PRODID:rbb-CMS DAY
BEGIN:VEVENT
CLASS:PUBLIC
URL:http://www.rbb-online.de/content/rbb/rbb/taeteropferpolizei/archiv/20140302_1900/fahndung_dieb_wittstock.html
DTEND:20140302T192500
DTSTART:20140302T190000
UID:/content/rbb/rbb/taeteropferpolizei/archiv/20140302_1900/fahndung_dieb_wittstock
DTSTAMP:20140404T205644
DESCRIPTION:Die Polizei in Wittstock (Landkreis Ostprignitz-Ruppin) sucht nach einem Mann, der am 18. März 2013 einer Frau im Bus das Portemonnaie samt EC-Karte gestohlen hat.\n
SUMMARY:Dieb gesucht
END:VEVENT
END:VCALENDAR
