BEGIN:VCALENDAR
X-WR-TIMEZONE:Europe/Berlin
X-WR-CALNAME:rbb-Kalender
VERSION:2.0
METHOD:PUBLISH
CALSCALE:GREGORIAN
PRODID:rbb-CMS DAY
BEGIN:VEVENT
CLASS:PUBLIC
URL:http://www.rbb-online.de/content/rbb/rbb/taeteropferpolizei/archiv/20140302_1900/raubmord_in_steglitz.html
DTEND:20140302T192500
DTSTART:20140302T190000
UID:/content/rbb/rbb/taeteropferpolizei/archiv/20140302_1900/raubmord_in_steglitz
DTSTAMP:20140404T205716
DESCRIPTION:Kerzen und Blumen stehen seit dem 14. Februar in der Kniephofstraße/ Ecke Göttinger Straße. Sie erinnern an Thomas W, der hier in seinem Kiosk zu Tode kam.\n
SUMMARY:Bluttat in Berlin-Steglitz – Polizei glaubt an einen Raubmord
END:VEVENT
END:VCALENDAR
