BEGIN:VCALENDAR
X-WR-TIMEZONE:Europe/Berlin
X-WR-CALNAME:rbb-Kalender
VERSION:2.0
METHOD:PUBLISH
CALSCALE:GREGORIAN
PRODID:rbb-CMS DAY
BEGIN:VEVENT
CLASS:PUBLIC
URL:http://www.rbb-online.de/content/rbb/rbb/taeteropferpolizei/archiv/20140302_1900/ueberfall_netto_schwante.html
DTEND:20140302T192500
DTSTART:20140302T190000
UID:/content/rbb/rbb/taeteropferpolizei/archiv/20140302_1900/ueberfall_netto_schwante
DTSTAMP:20140404T210522
DESCRIPTION:Es ist der Abend des 11. Februar – ein Dienstag um 19.45 Uhr. Es geht auf den Ladenschluss zu, ein Kunde ist noch im Netto-Markt in Schwante (Landkreis Oberhavel). Schließlich geht er ans Süßwarenregal und nimmt eine Kleinigkeit mit.\n\n\n
SUMMARY:Netto-Markt in Schwante - Überfall vor Ladenschluss
END:VEVENT
END:VCALENDAR
