BEGIN:VCALENDAR
X-WR-TIMEZONE:Europe/Berlin
X-WR-CALNAME:rbb-Kalender
VERSION:2.0
METHOD:PUBLISH
CALSCALE:GREGORIAN
PRODID:rbb-CMS DAY
BEGIN:VEVENT
CLASS:PUBLIC
URL:http://www.rbb-online.de/content/rbb/rbb/taeteropferpolizei/archiv/20140309_1900/fahndung_ueberfall_finsterwalde.html
DTEND:20140309T192500
DTSTART:20140309T190000
UID:/content/rbb/rbb/taeteropferpolizei/archiv/20140309_1900/fahndung_ueberfall_finsterwalde
DTSTAMP:20140404T205728
DESCRIPTION:Er hat am Nachmittag des 25. Januar, einem Sonnabend, einen Getränkehandel in Finsterwalde (Landkreis Elbe-Elster) überfallen: Er bedrohte die Verkäuferin mit einem Trommelrevolver. Die Frau aber wehrte sich, und so verließ der Täter den Laden am Ende ohne Beute.\n\n\n
SUMMARY:Wer kennt den bewaffneten Räuber?
END:VEVENT
END:VCALENDAR
