BEGIN:VCALENDAR
X-WR-TIMEZONE:Europe/Berlin
X-WR-CALNAME:rbb-Kalender
VERSION:2.0
METHOD:PUBLISH
CALSCALE:GREGORIAN
PRODID:rbb-CMS DAY
BEGIN:VEVENT
CLASS:PUBLIC
URL:http://www.rbb-online.de/content/rbb/rbb/taeteropferpolizei/archiv/20140309_1900/ueberfall_getraenkemarkt_schildow.html
DTEND:20140309T192500
DTSTART:20140309T190000
UID:/content/rbb/rbb/taeteropferpolizei/archiv/20140309_1900/ueberfall_getraenkemarkt_schildow
DTSTAMP:20140404T210514
DESCRIPTION:Wenn Räuber auf volle Kassen hoffen, dann kommen sie kurz vor Ladenschluss. Das war auch in Schildow so, einem kleinen Ort direkt an der Landesgrenze zu Berlin.\n\n\n
SUMMARY:Mit der Pistole in den Getränkemarkt
END:VEVENT
END:VCALENDAR
