BEGIN:VCALENDAR
X-WR-TIMEZONE:Europe/Berlin
X-WR-CALNAME:rbb-Kalender
VERSION:2.0
METHOD:PUBLISH
CALSCALE:GREGORIAN
PRODID:rbb-CMS DAY
BEGIN:VEVENT
LOCATION:Der rbb Kriminalreport mit Uwe Madel
CLASS:PUBLIC
URL:http://www.rbb-online.de/content/rbb/rbb/taeteropferpolizei/archiv/20140316_1900.html
DTEND:20140316T192500
DTSTART:20140316T190000
UID:/content/rbb/rbb/taeteropferpolizei/archiv/20140316_1900
DTSTAMP:20140404T210401
DESCRIPTION:+++ Handtaschenraub – das Opfer schwer verletzt! +++ Aufgeklärt: der Spätkauf-Überfall in Pankow +++ Villeneinbruch am Wannsee +++ Miit der Pistole in die Apotheke +++ Erst wird Hilfe angeboten – dann ist das Portemonnaie weg +++ Moderation: Uwe Madel +++\n\n\n
SUMMARY:Täter - Opfer - Polizei vom 16.03.2014
END:VEVENT
END:VCALENDAR
