BEGIN:VCALENDAR
X-WR-TIMEZONE:Europe/Berlin
X-WR-CALNAME:rbb-Kalender
VERSION:2.0
METHOD:PUBLISH
CALSCALE:GREGORIAN
PRODID:rbb-CMS DAY
BEGIN:VEVENT
CLASS:PUBLIC
URL:http://www.rbb-online.de/content/rbb/rbb/taeteropferpolizei/archiv/20140316_1900/fahndung_toter_mariendorf.html
DTEND:20140316T192500
DTSTART:20140316T190000
UID:/content/rbb/rbb/taeteropferpolizei/archiv/20140316_1900/fahndung_toter_mariendorf
DTSTAMP:20140404T210817
DESCRIPTION:Die Leiche des Unbekannten wurde am 07. Januar auf dem Heidefriedhof am Floning-Weg in Berlin-Mariendorf gefunden. Dort hatte er vermutlich seine Schlafstätte.\n\n\n
SUMMARY:Wer kennt den Toten aus Berlin-Mariendorf?
END:VEVENT
END:VCALENDAR
