BEGIN:VCALENDAR
X-WR-TIMEZONE:Europe/Berlin
X-WR-CALNAME:rbb-Kalender
VERSION:2.0
METHOD:PUBLISH
CALSCALE:GREGORIAN
PRODID:rbb-CMS DAY
BEGIN:VEVENT
CLASS:PUBLIC
URL:http://www.rbb-online.de/content/rbb/rbb/taeteropferpolizei/archiv/20140316_1900/putztrick.html
DTEND:20140316T192500
DTSTART:20140316T190000
UID:/content/rbb/rbb/taeteropferpolizei/archiv/20140316_1900/putztrick
DTSTAMP:20140404T210439
DESCRIPTION:Hausarbeit kann lästig sein. Wie gut, dass es auch dafür Profis gibt, die einem das Putzen, Fegen und Staubwischen abnehmen. Doch Vorsicht - nicht jeder, der Hilfe anbietet, will auch wirklich saubermachen.\n
SUMMARY:Erst wird Hilfe angeboten – dann ist das Portemonnaie weg
END:VEVENT
END:VCALENDAR
